BEGIN:VCALENDAR
VERSION:2.0
PRODID:-//ChamberMaster//Event Calendar 2.0//EN
METHOD:PUBLISH
X-PUBLISHED-TTL:P3D
REFRESH-INTERVAL:P3D
CALSCALE:GREGORIAN
BEGIN:VEVENT
DTSTART:20260414T150000Z
DTEND:20260414T173000Z
X-MICROSOFT-CDO-ALLDAYEVENT:FALSE
SUMMARY:You’re Invited! Join Us at the South University Multi-Industry Career Fair!
DESCRIPTION:You're Invited! Join Us at the Multi-Industry Career Fair! \n\nSouth University's Career Services team is excited to welcome students\, alumni\, and community members to our upcoming Multi-Industry Career Fair!\n\nWhether you're exploring full-time roles\, searching for internships\, or simply looking to connect with employers across a variety of fields\, including healthcare\, business\, technology\, criminal justice\, and more\, this event is your opportunity to build valuable connections and discover your next career move.\n\nDate: Tuesday\, April 14th\n\nTime: 11:00 AM   1:30 PM\n\nLocation: Columbia Campus   Learning Commons\n\nDon't miss a chance to connect with top employers and learn about opportunities across multiple industries\, all in one place!\n\nSpread the word and bring a friend. We look forward to seeing you there!
X-ALT-DESC;FMTTYPE=text/html:<div>\n<p><strong>You&rsquo\;re Invited! Join Us at the Multi-Industry Career Fair!</strong>&nbsp\;</p>\n\n<p>South University&rsquo\;s Career Services team is excited to welcome students\, alumni\, and community members to our upcoming <strong>Multi-Industry Career Fair</strong>!</p>\n\n<p>Whether you&rsquo\;re exploring full-time roles\, searching for internships\, or simply looking to connect with employers across a variety of fields\, including healthcare\, business\, technology\, criminal justice\, and more\, this event is your opportunity to build valuable connections and discover your next career move.</p>\n\n<p><strong>Date:</strong> Tuesday\, April 14th<br />\n<strong>Time:</strong> 11:00 AM &ndash\; 1:30 PM<br />\n<strong>Location:</strong> Columbia Campus &ndash\; Learning Commons</p>\n\n<p>Don&rsquo\;t miss a chance to connect with top employers and learn about opportunities across multiple industries\, all in one place!</p>\n\n<p>Spread the word and bring a friend. We look forward to seeing you there!&nbsp\;</p>\n</div>\n
LOCATION:South University Columbia Campus Learning Commons 9 Science Court Columbia\, SC 29203
UID:e.2226.17432
SEQUENCE:3
DTSTAMP:20260421T125455Z
URL:https://partners.columbiachamber.com/events/details/you-re-invited-join-us-at-the-south-university-multi-industry-career-fair-17432
END:VEVENT

END:VCALENDAR
