BEGIN:VCALENDAR
VERSION:2.0
PRODID:-//ChamberMaster//Event Calendar 2.0//EN
METHOD:PUBLISH
X-PUBLISHED-TTL:P3D
REFRESH-INTERVAL:P3D
CALSCALE:GREGORIAN
BEGIN:VEVENT
DTSTART:20180404T173000Z
DTEND:20180404T190000Z
X-MICROSOFT-CDO-ALLDAYEVENT:FALSE
SUMMARY:Webster University Partner Reception
DESCRIPTION:Please join us for our Corporate Partners Reception at Webster's Columbia Metropolitan location. Take a break from your desk\, enjoy light refreshments and network with other Webster Corporate Partners. We will also have a special recognition for one of our partners!\n\n\nRSVP with Brittney Oliver\, Recruitment Coordinator at brittneyoliver58@webster.edu with your attendance decision and your guest count.
X-ALT-DESC;FMTTYPE=text/html:<span style="font-size:14px\;"><span style="font-family:verdana\;"><span style="color:#707c7c\;">Please join us for our Corporate Partners Reception at Webster&#39\;s Columbia Metropolitan location. Take a break from your desk\, enjoy light refreshments and network with other Webster Corporate Partners. We will also have a special recognition for one of our partners!</span></span></span>\n<div style="text-align: center\;"><br />\n<strong>RSVP with Brittney Oliver\, Recruitment Coordinator at brittneyoliver58@webster.edu with your attendance decision and your guest count.</strong></div>\n
LOCATION:Webster University - Columbia Campus 100 Gateway Corporate Blvd. Columbia\, SC 29203
UID:e.2226.9227
SEQUENCE:3
DTSTAMP:20260420T211026Z
URL:https://partners.columbiachamber.com/events/details/webster-university-partner-reception-9227
END:VEVENT

END:VCALENDAR
