BEGIN:VCALENDAR
VERSION:2.0
PRODID:-//ChamberMaster//Event Calendar 2.0//EN
METHOD:PUBLISH
X-PUBLISHED-TTL:P3D
REFRESH-INTERVAL:P3D
CALSCALE:GREGORIAN
BEGIN:VEVENT
DTSTART:20180517T213000Z
DTEND:20180517T230000Z
X-MICROSOFT-CDO-ALLDAYEVENT:FALSE
SUMMARY:Webster University Open House!
DESCRIPTION:Join Webster University - Columbia Campus for our May Open House! Come Tour the campus\, learn about our Degree Completion and Graduate Degree programs and Speak with Advisors on site.\n\n\n\nAt Webster University\, a degree is more than a piece of paper. It's proof that you'll do what it takes to push your career and yourself further.\n\n	No GRE/GMAT requirement\n	Taught by qualified practitioners in their fields\n	Classes meet one night a week\n	Classes designed to suit the working professional's schedule\n\n The undergraduate and graduate application fee is waived for those who attend and apply. For a complete list of programs\, visit webster.edu/columbia.\n\nRSVP to Brittney Oliver\, Recruitment Coordinator\, at brittneyoliver58@webster.edu or\n\nat 803-699-0900 ext.3344.
X-ALT-DESC;FMTTYPE=text/html:<span style="color:#707c7c\;"><span style="font-size:14px\;"><span style="font-family:verdana\;">Join Webster University - Columbia Campus for our May Open House! Come <strong>Tour the campus</strong>\, learn about our <strong>Degree Completion</strong> and <strong>Graduate Degree</strong> programs and Speak with<strong> Advisors</strong> on site.<br />\n<br />\nAt Webster University\, a degree is more than a piece of paper. It&#39\;s proof that you&#39\;ll do what it takes to push your career and yourself further.</span></span></span>\n<ul>\n	<li><span style="color:#707c7c\;"><span style="font-size:14px\;"><span style="font-family:verdana\;"><strong>No GRE/GMAT requirement</strong></span></span></span></li>\n	<li><span style="color:#707c7c\;"><span style="font-size:14px\;"><span style="font-family:verdana\;"><strong>Taught by qualified practitioners in their fields</strong></span></span></span></li>\n	<li><span style="color:#707c7c\;"><span style="font-size:14px\;"><span style="font-family:verdana\;"><strong>Classes meet one night a week</strong></span></span></span></li>\n	<li><span style="color:#707c7c\;"><span style="font-size:14px\;"><span style="font-family:verdana\;"><strong>Classes designed to suit the working professional&#39\;s schedule</strong></span></span></span></li>\n</ul>\n<span style="font-size:14px\;"><span style="font-family:verdana\;"><span style="color:#707c7c\;"> The undergraduate and graduate<strong><em> application fee is waived for those who attend and apply</em></strong>. For a complete list of programs\, visit </span><a href="http://webster.edu/columbia" target="_blank"><span style="color:#707c7c\;">webster.edu/columbia</span></a><span style="color:#707c7c\;">.<br />\n<strong>RSVP</strong> to Brittney Oliver\, Recruitment Coordinator\, at <strong>brittneyoliver58@webster.edu</strong> or<br />\nat<strong> 803-699-0900 ext.3344</strong>.</span></span></span><br />\n&nbsp\;
LOCATION:Webster University - Columbia Campus 100 Gateway Corporate Blvd. Columbia\, SC 29203
UID:e.2226.9263
SEQUENCE:3
DTSTAMP:20260421T062618Z
URL:https://partners.columbiachamber.com/events/details/webster-university-open-house-05-17-2018-9263
END:VEVENT

END:VCALENDAR
