BEGIN:VCALENDAR
VERSION:2.0
PRODID:-//ChamberMaster//Event Calendar 2.0//EN
METHOD:PUBLISH
X-PUBLISHED-TTL:P3D
REFRESH-INTERVAL:P3D
CALSCALE:GREGORIAN
BEGIN:VEVENT
DTSTART:20180222T223000Z
DTEND:20180223T000000Z
X-MICROSOFT-CDO-ALLDAYEVENT:FALSE
SUMMARY:Webster University Open House!
DESCRIPTION:Do you feel 'stuck' at your current job? Have you considered your educational options? Are you looking to advance in your industry? Webster University   Columbia Metropolitan Campus personally invites you to our upcoming Open House on Thursday\, February 22\, 2018 from 5:30pm - 7:00pm. Please join us to get more information about our university\, our programs\, and tour our facilities.\n\n \n\nAt Webster University\, a degree is more than a piece of paper. It's proof that you'll do what it takes to push your career and yourself further. With its global footprint\, a degree from Webster University not only provides you with a degree more and more employers are looking for\, but also the critical thinking skills and teamwork experience necessary for today's interconnected world.\n\n \n\nAdvisors will be available to talk with you about your future at Webster University. The undergraduate and graduate application fee is waived for those who attend and apply. For a complete list of programs\, visit webster.edu/columbia.\n\n \nRSVP to Brittney Oliver\, Recruitment Coordinator\, at brittneyoliver58@webster.edu or\n\nat 803-699-0900 ext.3344.
X-ALT-DESC;FMTTYPE=text/html:<span style="color:#707c7c"><span style="font-size:14px"><span style="font-family:verdana">Do you feel &lsquo\;<em>stuck&#39\;</em> at your current job? Have you considered your educational options? Are you looking to advance in your industry? Webster University &ndash\; Columbia Metropolitan Campus personally invites you to our upcoming <strong>Open House </strong>on <strong>Thursday\, February 22\, 2018 </strong>from <strong>5:30pm - 7:00pm</strong>. Please join us to get more information about our university\, our programs\, and tour our facilities.<br />\n&nbsp\;<br />\nAt Webster University\, a degree is more than a piece of paper. It&#39\;s proof that you&#39\;ll do what it takes to push your career and yourself further. With its global footprint\, a degree from Webster University not only provides you with a degree more and more employers are looking for\, but also the critical thinking skills and teamwork experience necessary for today&#39\;s interconnected world.<br />\n&nbsp\;<br />\nAdvisors will be available to talk with you about your future at Webster University. The undergraduate and graduate&nbsp\;application fee is waived for those who attend and apply. For a complete list of programs\, visit webster.edu/columbia.</span></span></span><br />\n&nbsp\;\n<div style="text-align:center"><span style="font-size:14px"><span style="font-family:verdana"><strong><span style="color:#707c7c">RSVP to Brittney Oliver\, Recruitment Coordinator\, at </span><a href="mailto:brittneyoliver58@webster.edu"><span style="color:#707c7c">brittneyoliver58@webster.edu</span></a><span style="color:#707c7c"> or<br />\nat 803-699-0900 ext.3344.</span></strong></span></span></div>\n
LOCATION:Webster University Columbia Metropolitan Campus 100 Gateway Corporate Blvd. Columbia\, SC 29203
UID:e.2226.7919
SEQUENCE:3
DTSTAMP:20260422T033635Z
URL:https://partners.columbiachamber.com/events/details/webster-university-information-session-7919
END:VEVENT

END:VCALENDAR
