BEGIN:VCALENDAR
VERSION:2.0
PRODID:-//ChamberMaster//Event Calendar 2.0//EN
METHOD:PUBLISH
X-PUBLISHED-TTL:P3D
REFRESH-INTERVAL:P3D
CALSCALE:GREGORIAN
BEGIN:VEVENT
DTSTART:20171110T160000Z
DTEND:20171110T180000Z
X-MICROSOFT-CDO-ALLDAYEVENT:FALSE
SUMMARY:Veteran's Day Parade
DESCRIPTION:A spectacular procession of marching high school bands\, military equipment and marching installations from around the state is a special tribute to veterans.
X-ALT-DESC;FMTTYPE=text/html:<span style="color:#707c7c\;"><span style="font-size:14px\;"><span style="font-family:verdana\;">A spectacular procession of marching high school bands\, military equipment and marching installations from around the state is a special tribute to veterans.</span></span></span>
LOCATION:Sumter St. Columbia\, SC 29201
UID:e.2226.7567
SEQUENCE:3
DTSTAMP:20260424T080310Z
URL:https://partners.columbiachamber.com/events/details/veteran-s-day-parade-7567
END:VEVENT

END:VCALENDAR
