BEGIN:VCALENDAR
VERSION:2.0
PRODID:-//ChamberMaster//Event Calendar 2.0//EN
METHOD:PUBLISH
X-PUBLISHED-TTL:P3D
REFRESH-INTERVAL:P3D
CALSCALE:GREGORIAN
BEGIN:VEVENT
DTSTART:20180425T114500Z
DTEND:20180425T130000Z
X-MICROSOFT-CDO-ALLDAYEVENT:FALSE
SUMMARY:United Way's Caffeinated Conversations
DESCRIPTION:Please join us for Caffeinated Conversations with special guest Ben Rex of Cyberwoven!\n\nEngage in lively discussions about community\, the importance of collaborative efforts and connecting resources to improve the quality of life in the Midlands. This quarterly networking series is designed to bring together business and community leaders in a relaxed setting as we highlight the benefits of collective impact\, how workplace engagements help improve and sustain workforce environments and why so many volunteers actively support our mission.
X-ALT-DESC;FMTTYPE=text/html:<p abp="228">Please join us for Caffeinated Conversations with special guest Ben Rex of Cyberwoven!</p>\n\n<p abp="229">Engage in lively discussions about community\, the importance of collaborative efforts and connecting resources to improve the quality of life in the Midlands. This quarterly networking series is designed to bring together business and community leaders in a relaxed setting as we highlight the benefits of collective impact\, how workplace engagements help improve and sustain workforce environments and why so many volunteers actively support our mission.</p>\n
LOCATION:United Way 1818 Blanding St.
UID:e.2226.9254
SEQUENCE:3
DTSTAMP:20260420T211111Z
URL:https://partners.columbiachamber.com/events/details/united-way-s-caffeinated-conversations-9254
END:VEVENT

END:VCALENDAR
