BEGIN:VCALENDAR
VERSION:2.0
PRODID:-//ChamberMaster//Event Calendar 2.0//EN
METHOD:PUBLISH
X-PUBLISHED-TTL:P3D
REFRESH-INTERVAL:P3D
CALSCALE:GREGORIAN
BEGIN:VEVENT
DTSTART:20171027T213000Z
DTEND:20171027T230000Z
X-MICROSOFT-CDO-ALLDAYEVENT:FALSE
SUMMARY:Trunk or Treat
DESCRIPTION:Put on your costume and join Historic Columbia as we bring the fun of Halloween to the Robert Mills House during Trunk or Treat! Children will enjoy trick-or-treating with a twist in a safe and fun environment. Community members and organizations will display decorated trunks filled with candy in the parking lot of the Robert Mills House. Awards and prizes for best costumes\, best decorated trunk\, and scarecrows will be given at 6:45 pm. Don't forget to visit the Gift Shop at Robert Mills during this free event!\n\n \nHistoric Columbia is accepting registrations for businesses\, organizations and families to place a decorated vehicle at the event. This is a great opportunity for businesses and organizations to promote their mission\, give away branded merchandise\, and hand out candy to hundreds of children at a free community event. Vehicle owners must register via email by Monday\, October 23. For more information\, visit historiccolumbia.org.
X-ALT-DESC;FMTTYPE=text/html:<span style="font-size:14px"><span style="font-family:arial\,helvetica\,sans-serif"><span style="color:rgb(34\, 34\, 34)">Put on your costume and join Historic Columbia as we bring the fun of Halloween to the Robert Mills House during Trunk or Treat!&nbsp\;Children will enjoy trick-or-treating with a twist in a safe and fun environment. Community members and organizations will display decorated trunks filled with candy in the parking lot of the Robert Mills House. Awards and prizes for best costumes\, best decorated trunk\, and scarecrows will be given at 6:45 pm. Don&rsquo\;t forget to&nbsp\;visit the&nbsp\;</span><a href="http://www.historiccolumbia.org/take-a-tour/the-gift-shop-at-robert-mills" style="box-sizing: border-box\; color: rgb(255\, 89\, 10)\; transition: color 0.25s ease\; font-family: minion-pro\, Georgia\, &quot\;Times New Roman&quot\;\, Times\, serif\; font-size: 15.008px\;">Gift Shop at Robert Mills</a><span style="color:rgb(34\, 34\, 34)">&nbsp\;during this free event!</span></span></span><br />\n&nbsp\;\n<p><span style="font-size:14px"><span style="font-family:arial\,helvetica\,sans-serif">Historic Columbia is accepting registrations for businesses\, organizations and families to place a decorated vehicle at the event. This is a great opportunity for businesses and organizations to promote their mission\, give away branded merchandise\, and hand out candy to hundreds of children at a free community event.&nbsp\;</span></span><span style="font-family:arial\,helvetica\,sans-serif\; font-size:14px">Vehicle owners must register via email by&nbsp\;</span><strong style="font-family:arial\,helvetica\,sans-serif\; font-size:14px">Monday\, October 23</strong><span style="font-family:arial\,helvetica\,sans-serif\; font-size:14px">. For more information\, visit historiccolumbia.org.</span></p>\n
LOCATION:1616 Blanding Street Columbia\, SC 29201
UID:e.2226.7199
SEQUENCE:3
DTSTAMP:20260423T200210Z
URL:https://partners.columbiachamber.com/events/details/trunk-or-treat-7199
END:VEVENT

END:VCALENDAR
