BEGIN:VCALENDAR
VERSION:2.0
PRODID:-//ChamberMaster//Event Calendar 2.0//EN
METHOD:PUBLISH
X-PUBLISHED-TTL:P3D
REFRESH-INTERVAL:P3D
CALSCALE:GREGORIAN
BEGIN:VEVENT
DTSTART:20171012T220000Z
DTEND:20171013T013000Z
X-MICROSOFT-CDO-ALLDAYEVENT:FALSE
SUMMARY:Spirits Alive!
DESCRIPTION:Grab your flashlight and join Historic Columbia and Elmwood Cemetery staff for guided tours presenting some of Columbia's eerie and peculiar past by the light of the moon! Different than the regular monthly tours\, Spirits Alive! Cemetery Tours feature costumed tour guides\, snacks and other Halloween-related activities.\n\nAdmission includes tour of Elmwood Cemetery and light snacks. Reservations required. Tours begin every 30 minutes\, and the last tour starts at 8:30 pm.
X-ALT-DESC;FMTTYPE=text/html:<h3><span style="font-size:13px">Grab your flashlight and join Historic Columbia and Elmwood Cemetery staff for guided tours presenting some of Columbia&rsquo\;s eerie and peculiar past by the light of the moon! Different than the regular monthly tours\, Spirits Alive! Cemetery Tours feature costumed tour guides\, snacks and other Halloween-related activities.</span></h3>\n\n<p>Admission includes tour of Elmwood Cemetery and light snacks. Reservations required. Tours begin every 30 minutes\, and the last tour starts at 8:30 pm.</p>\n
LOCATION:Elmwood Cemetery 501 Elmwood Ave. Columbia\, SC 29201
UID:e.2226.7032
SEQUENCE:3
DTSTAMP:20260423T091511Z
URL:https://partners.columbiachamber.com/events/details/spirits-alive-7032
END:VEVENT

END:VCALENDAR
