BEGIN:VCALENDAR
VERSION:2.0
PRODID:-//ChamberMaster//Event Calendar 2.0//EN
METHOD:PUBLISH
X-PUBLISHED-TTL:P3D
REFRESH-INTERVAL:P3D
CALSCALE:GREGORIAN
BEGIN:VEVENT
DTSTART:20180430T140000Z
DTEND:20180430T150000Z
X-MICROSOFT-CDO-ALLDAYEVENT:FALSE
SUMMARY:Small Business Week Press Conference
DESCRIPTION:Join the Columbia Chamber\, the City of Columbia and Richland County in celebrating the importance of small business!\n\n\n\nProclamation by Mayor Steve Benjamin\; Presentation by Joyce Dickerson\, Chair Richland County Council
X-ALT-DESC;FMTTYPE=text/html:<span style="color: rgb(112\, 124\, 124)\; font-family: verdana\; font-size: 14px\;">Join the Columbia Chamber\, the City of Columbia and Richland County&nbsp\;in celebrating the importance of small business!<br />\n<br />\nProclamation by Mayor Steve Benjamin\; Presentation by Joyce Dickerson\, Chair Richland County Council</span>
LOCATION:Uptown Gifts 1204 Main St Columbia\, SC 29201
UID:e.2226.9251
SEQUENCE:3
DTSTAMP:20260420T234114Z
URL:https://partners.columbiachamber.com/events/details/small-business-week-press-conference-9251
END:VEVENT

END:VCALENDAR
