BEGIN:VCALENDAR
VERSION:2.0
PRODID:-//ChamberMaster//Event Calendar 2.0//EN
METHOD:PUBLISH
X-PUBLISHED-TTL:P3D
REFRESH-INTERVAL:P3D
CALSCALE:GREGORIAN
BEGIN:VEVENT
DTSTART:20171210T190000Z
DTEND:20171210T213000Z
X-MICROSOFT-CDO-ALLDAYEVENT:FALSE
SUMMARY:Second Sunday Roll | Lower Richland
DESCRIPTION:Join Historic Columbia on an adventure though Lower Richland County during our Second Sunday Roll. This bus tour will depart from the Robert Mills Carriage House and travel past historic sites in this part of the Richland County including Wavering Place Plantation\, McEntire Air Base\, The Barber House\, Congaree Baptist Church\, and other historic sites that date to the 18th\, 19th\, and early 20th centuries.
X-ALT-DESC;FMTTYPE=text/html:<span style="font-size:14px"><span style="font-family:arial\,helvetica\,sans-serif"><span style="color:rgb(34\, 34\, 34)">Join Historic Columbia on an adventure though Lower Richland County during our Second Sunday Roll.&nbsp\;This bus tour will depart from the Robert Mills Carriage House and travel past historic sites in this part of the Richland County including Wavering Place Plantation\, McEntire Air Base\, The Barber House\, Congaree Baptist Church\, and other historic sites that date to the 18th\, 19th\, and early 20th centuries.</span></span></span>
LOCATION:The Gift Shop at Robert Mills 1616 Blanding St. Columbia\, SC 29201
UID:e.2226.7914
SEQUENCE:3
DTSTAMP:20260422T104444Z
URL:https://partners.columbiachamber.com/events/details/second-sunday-roll-lower-richland-12-10-2017-7914
END:VEVENT

END:VCALENDAR
