BEGIN:VCALENDAR
VERSION:2.0
PRODID:-//ChamberMaster//Event Calendar 2.0//EN
METHOD:PUBLISH
X-PUBLISHED-TTL:P3D
REFRESH-INTERVAL:P3D
CALSCALE:GREGORIAN
BEGIN:VEVENT
DTSTART:20180303T190000Z
DTEND:20180303T203000Z
X-MICROSOFT-CDO-ALLDAYEVENT:FALSE
SUMMARY:Saturday Stroll | Five Points
DESCRIPTION:Join us as we explore one of the earliest planned suburbs of Columbia where the introduction of street car lines provided the catalyst for its explosive growth. Learn how Five Points became the first major commercial district in South Carolina located away from a town's main street. Second Sunday Strolls & Rolls are a such a popular monthly event that we're expanding to include a few Saturdays in 2018! So join us\, when weather permits\, in historic districts throughout Richland County.
X-ALT-DESC;FMTTYPE=text/html:<span style="font-family:verdana\;"><span style="color:#707c7c\;"><span style="font-size:14px">Join us as we explore one of the earliest planned suburbs of Columbia where the introduction of street car lines provided the catalyst for its explosive growth. Learn how Five Points became the first major commercial district in South Carolina located away from a town&rsquo\;s main street. Second Sunday Strolls &amp\; Rolls are a such a popular monthly event that we&#39\;re expanding to include a few Saturdays in 2018! So join us\, when weather permits\, in historic districts throughout Richland County.</span></span></span>
LOCATION:Five Points Fountain Corner of Greene and Harden Streets Columbia\, SC 29205
UID:e.2226.8194
SEQUENCE:3
DTSTAMP:20260421T194839Z
URL:https://partners.columbiachamber.com/events/details/saturday-stroll-five-points-8194
END:VEVENT

END:VCALENDAR
