BEGIN:VCALENDAR
VERSION:2.0
PRODID:-//ChamberMaster//Event Calendar 2.0//EN
METHOD:PUBLISH
X-PUBLISHED-TTL:P3D
REFRESH-INTERVAL:P3D
CALSCALE:GREGORIAN
BEGIN:VEVENT
DTSTART:20171104T233000Z
DTEND:20171105T013000Z
X-MICROSOFT-CDO-ALLDAYEVENT:FALSE
SUMMARY:Ronald K. Brown / EVIDENCE
DESCRIPTION:Known for producing thoughtful and deeply moving works\, Ronald K. Brown is a multiple-award-and-fellowship-winning choreographer whose work has been featured on stages worldwide. In this profound performance\, dancers will integrate traditional African dance with contemporary choreography and spoken word\, highlighting the importance of community in African culture and acquainting audiences with the beauty of African forms and rhythms. This performance is funded in part by a grant from South Arts in partnership with the National Endowment for the Arts and the South Carolina Arts Commission.
X-ALT-DESC;FMTTYPE=text/html:Known for producing thoughtful and deeply moving works\, Ronald K. Brown is a multiple-award-and-fellowship-winning choreographer whose work has been featured on stages worldwide. In this profound performance\, dancers will integrate traditional African dance with contemporary choreography and spoken word\, highlighting the importance of community in African culture and acquainting audiences with the beauty of African forms and rhythms. This performance is funded in part by a grant from South Arts in partnership with the National Endowment for the Arts and the South Carolina Arts Commission.
LOCATION:Harbison Theatre at Midlands Technical College 7300 College Street\, Irmo\, SC 29063
UID:e.2226.6979
SEQUENCE:3
DTSTAMP:20260424T115217Z
URL:https://partners.columbiachamber.com/events/details/ronald-k-brown-evidence-6979
END:VEVENT

END:VCALENDAR
