BEGIN:VCALENDAR
VERSION:2.0
PRODID:-//ChamberMaster//Event Calendar 2.0//EN
METHOD:PUBLISH
X-PUBLISHED-TTL:P3D
REFRESH-INTERVAL:P3D
CALSCALE:GREGORIAN
BEGIN:VEVENT
DTSTART:20171022T193000Z
DTEND:20171022T213000Z
X-MICROSOFT-CDO-ALLDAYEVENT:FALSE
SUMMARY:Pops: British Invasion
DESCRIPTION:We celebrate all the Queen's horses and men\, composers\, and hitmakers in this concert featuring the best of Britannia.
X-ALT-DESC;FMTTYPE=text/html:We celebrate all the Queen&rsquo\;s horses and men\, composers\, and hitmakers in this concert featuring the best of Britannia.
LOCATION:Harbison Theatre at Midlands Technical College 7300 College Street\, Irmo\, SC 29063
UID:e.2226.6977
SEQUENCE:3
DTSTAMP:20260423T094713Z
URL:https://partners.columbiachamber.com/events/details/pops-british-invasion-6977
END:VEVENT

END:VCALENDAR
