BEGIN:VCALENDAR
VERSION:2.0
PRODID:-//ChamberMaster//Event Calendar 2.0//EN
METHOD:PUBLISH
X-PUBLISHED-TTL:P3D
REFRESH-INTERVAL:P3D
CALSCALE:GREGORIAN
BEGIN:VEVENT
DTSTART:20180225T203000Z
DTEND:20180226T023000Z
X-MICROSOFT-CDO-ALLDAYEVENT:FALSE
SUMMARY:Pilobolus
DESCRIPTION:The dancer-chameleons of Pilobolus make inventive\, athletic\, witty\, collaborative performances that alternately inspire laughter\, wonder\, and soul-searching. Their work has been featured on The Academy Awards\, 60 Minutes\, Sesame Street\, The Oprah Winfrey Show\, and Ellen. This daring\, enchanting company sold out two performances during our 2012 premiere season\, so grab your tickets quickly! Show times at 3:30 PM and 7:30 PM This performance is funded in part by a grant from South Arts in partnership with the National Endowment for the Arts and the South Carolina Arts Commission.
X-ALT-DESC;FMTTYPE=text/html:The dancer-chameleons of Pilobolus make inventive\, athletic\, witty\, collaborative performances that alternately inspire laughter\, wonder\, and soul-searching. Their work has been featured on The Academy Awards\, 60 Minutes\, Sesame Street\, The Oprah Winfrey Show\, and Ellen. This daring\, enchanting company sold out two performances during our 2012 premiere season\, so grab your tickets quickly! Show times at 3:30 PM and 7:30 PM This performance is funded in part by a grant from South Arts in partnership with the National Endowment for the Arts and the South Carolina Arts Commission.
LOCATION:Harbison Theatre at Midlands Technical College 7300 College Street\, Irmo\, SC 29063
UID:e.2226.6988
SEQUENCE:3
DTSTAMP:20260421T144419Z
URL:https://partners.columbiachamber.com/events/details/pilobolus-6988
END:VEVENT

END:VCALENDAR
