BEGIN:VCALENDAR
VERSION:2.0
PRODID:-//ChamberMaster//Event Calendar 2.0//EN
METHOD:PUBLISH
X-PUBLISHED-TTL:P3D
REFRESH-INTERVAL:P3D
CALSCALE:GREGORIAN
BEGIN:VEVENT
DTSTART:20171213T000000Z
DTEND:20171213T030000Z
X-MICROSOFT-CDO-ALLDAYEVENT:FALSE
SUMMARY:Office Holiday Soiree
DESCRIPTION:Office Holiday Soiree is a new event at Spirit Communications Park for guests of any type. Small businesses have the opportunity to receive big time gains by jointly engaging your staff with others in the business community for a fun\, laid back holiday party. Suites are available for rent at $50 for businesses to host their own white elephant gift exchanges or to do award recognitions. There's nothing like it! Come enjoy views of beautiful Spirit Communications Park from our 7\,000 square foot Club Lounge.\n\nTickets are just $20 which includes a buffet and cash bar option\n\n$30 tickets are available that include open beer and wine
X-ALT-DESC;FMTTYPE=text/html:Office Holiday Soiree is a new event at Spirit Communications Park for guests of any type. Small businesses have the opportunity to receive big time gains by jointly engaging your staff with others in the business community for a fun\, laid back holiday party. Suites are available for rent at $50 for businesses to host their own white elephant gift exchanges or to do award recognitions. There&#39\;s nothing like it! Come enjoy views of beautiful Spirit Communications Park from our 7\,000 square foot Club Lounge.<br />\nTickets are just $20 which includes a buffet and cash bar option<br />\n$30 tickets are available that include open beer and wine
LOCATION:Spirit Communications Park 1640 Freed St. Columbia\, SC 29201
UID:e.2226.7840
SEQUENCE:3
DTSTAMP:20260423T063841Z
URL:https://partners.columbiachamber.com/events/details/office-holiday-soiree-7840
END:VEVENT

END:VCALENDAR
