BEGIN:VCALENDAR
VERSION:2.0
PRODID:-//ChamberMaster//Event Calendar 2.0//EN
METHOD:PUBLISH
X-PUBLISHED-TTL:P3D
REFRESH-INTERVAL:P3D
CALSCALE:GREGORIAN
BEGIN:VEVENT
DTSTART:20180120T190000Z
DTEND:20180120T220000Z
X-MICROSOFT-CDO-ALLDAYEVENT:FALSE
SUMMARY:NTL On Screen: Peter Pan
DESCRIPTION:When Peter\, a boy who magically never ages\, loses his shadow\, he enlists the brave Wendy Darling to help him reattach it. In return\, he spirits all the Darling siblings to Neverland\, where a riot of magic\, music\, and make-believe ensues   but will evil Captain Hook end their adventure... for good?
X-ALT-DESC;FMTTYPE=text/html:When Peter\, a boy who magically never ages\, loses his shadow\, he enlists the brave Wendy Darling to help him reattach it. In return\, he spirits all the Darling siblings to Neverland\, where a riot of magic\, music\, and make-believe ensues &ndash\; but will evil Captain Hook end their adventure... for good?
LOCATION:Harbison Theatre at Midlands Technical College 7300 College Street\, Irmo\, SC 29063
UID:e.2226.6983
SEQUENCE:3
DTSTAMP:20260423T090151Z
URL:https://partners.columbiachamber.com/events/details/ntl-on-screen-peter-pan-6983
END:VEVENT

END:VCALENDAR
