BEGIN:VCALENDAR
VERSION:2.0
PRODID:-//ChamberMaster//Event Calendar 2.0//EN
METHOD:PUBLISH
X-PUBLISHED-TTL:P3D
REFRESH-INTERVAL:P3D
CALSCALE:GREGORIAN
BEGIN:VEVENT
DTSTART:20180131T000000Z
DTEND:20180131T030000Z
X-MICROSOFT-CDO-ALLDAYEVENT:FALSE
SUMMARY:NTL On Screen: Amadeus
DESCRIPTION:Wolfgang Amadeus Mozart\, a rowdy\, young prodigy\, arrives in Vienna determined to make a splash. Awestruck by his genius but seized by obsessive jealousy\, court composer Antonio Salieri begins a war with Mozart\, with music\, and ultimately\, with God.
X-ALT-DESC;FMTTYPE=text/html:Wolfgang Amadeus Mozart\, a rowdy\, young prodigy\, arrives in Vienna determined to make a splash. Awestruck by his genius but seized by obsessive jealousy\, court composer Antonio Salieri begins a war with Mozart\, with music\, and ultimately\, with God.
LOCATION:Harbison Theatre at Midlands Technical College 7300 College Street\, Irmo\, SC 29063
UID:e.2226.6985
SEQUENCE:3
DTSTAMP:20260424T174157Z
URL:https://partners.columbiachamber.com/events/details/ntl-on-screen-amadeus-6985
END:VEVENT

END:VCALENDAR
