BEGIN:VCALENDAR
VERSION:2.0
PRODID:-//ChamberMaster//Event Calendar 2.0//EN
METHOD:PUBLISH
X-PUBLISHED-TTL:P3D
REFRESH-INTERVAL:P3D
CALSCALE:GREGORIAN
BEGIN:VEVENT
DTSTART;VALUE=DATE:20170920
DTEND;VALUE=DATE:20170925
TRANSP:TRANSPARENT
X-MICROSOFT-CDO-ALLDAYEVENT:TRUE
SUMMARY:NORDSTROM RACK - TRIPLE POINTS
DESCRIPTION:Hey Rack Shoppers! Did you know that RIGHT NOW\, through September 24th\, if you're a Nordstrom Rewards member or cardholder\, you can earn points three times faster on Nordstrom Rack purchases. That's right it's TRIPLE POINTS TIME!! Just make sure to tell your salesperson you are a Rewards Member or use your Nordstrom debit or credit card at checkout. Not in Nordstrom Rewards? Ask our Team in Green for details!
X-ALT-DESC;FMTTYPE=text/html:Hey Rack Shoppers! Did you know that RIGHT NOW\, through September 24th\, if you&#39\;re a Nordstrom Rewards member or cardholder\, you can earn points three times faster on Nordstrom Rack purchases. That&#39\;s right it&#39\;s TRIPLE POINTS TIME!! Just make sure to tell your salesperson you are a Rewards Member or use your Nordstrom debit or credit card at checkout. Not in Nordstrom Rewards? Ask our Team in Green for details!
LOCATION:278 Harbison Blvd Columbia\, SC 29212
UID:e.2226.7176
SEQUENCE:3
DTSTAMP:20260425T012535Z
URL:https://partners.columbiachamber.com/events/details/nordstrom-rack-triple-points-7176
END:VEVENT

END:VCALENDAR
