BEGIN:VCALENDAR
VERSION:2.0
PRODID:-//ChamberMaster//Event Calendar 2.0//EN
METHOD:PUBLISH
X-PUBLISHED-TTL:P3D
REFRESH-INTERVAL:P3D
CALSCALE:GREGORIAN
BEGIN:VEVENT
DTSTART:20180421T140000Z
DTEND:20180421T153000Z
X-MICROSOFT-CDO-ALLDAYEVENT:FALSE
SUMMARY:Navigating the Hiring Process Workshop
DESCRIPTION:Join Webster University - Columbia and AppleOne Employment Agency to learn valuable tips and methods to acing the perfect interview from actual hiring professionals. Learn how social media could get you hired\, practice positive interview skills\, update your resume and many more worthwhile activities.
X-ALT-DESC;FMTTYPE=text/html:<span style="font-size:14px"><span style="font-family:verdana"><span style="color:#707c7c">Join Webster University - Columbia and AppleOne Employment Agency to learn valuable tips and methods to acing the perfect interview from actual hiring professionals. Learn how social media could get you hired\, practice positive interview skills\, update your resume and many more worthwhile activities.</span></span></span>
LOCATION:Webster University - Columbia Campus 100 Gateway Corporate Blvd. Columbia\, SC 29203
UID:e.2226.8211
SEQUENCE:3
DTSTAMP:20260420T211534Z
URL:https://partners.columbiachamber.com/events/details/navigating-the-hiring-process-workshop-8211
END:VEVENT

END:VCALENDAR
