BEGIN:VCALENDAR
VERSION:2.0
PRODID:-//ChamberMaster//Event Calendar 2.0//EN
METHOD:PUBLISH
X-PUBLISHED-TTL:P3D
REFRESH-INTERVAL:P3D
CALSCALE:GREGORIAN
BEGIN:VEVENT
DTSTART:20180424T180000Z
DTEND:20180424T190000Z
X-MICROSOFT-CDO-ALLDAYEVENT:FALSE
SUMMARY:Military Affairs Group
DESCRIPTION:During this quarterly forum\, Columbia Chamber partners gather to discuss and address military related issues and events occurring throughout the community.\n\n\n\nWe are pleased that the increased participation has outgrown the Chamber and we will meet at the SC National Guard Armory in the SC Military Museum (http://scmilitarymuseum.com/) for the April 24th meeting.  \n\n\n\nThe SC Military Museum of the SC National Guard Armory located at 1 National Guard Road (Bluff Road by the Williams Brice Stadium).   A valid photo identification must be shown at the gate.  Ample parking\, including handicapped\, is available. Chamber Event Signs will direct the way. \n \n\nYou are cordially invited to come early or stay after the meeting to tour the museum. An agenda will be shared prior to the meeting.  Thank you to the SC National Guard for hosting the meeting.    \n\n\nMeetings are open to all partners.
X-ALT-DESC;FMTTYPE=text/html:<span style="color:#707c7c\;"><span style="font-size:14px\;"><span style="font-family:verdana\;"><span background-color:="" font-size:="" new="" open="" times="">During this quarterly forum\, Columbia Chamber partners gather to discuss and address military related issues and events occurring throughout the community.<br />\n<br />\nWe are pleased that the increased participation has outgrown the Chamber and we will meet at the SC National Guard Armory in the SC Military Museum (</span>http://scmilitarymuseum.com/)&nbsp\;<span background-color:="" font-size:="" new="" open="" times="">for the April 24th meeting. &nbsp\;</span><br />\n<br />\n<span style="background-color: rgb(255\, 255\, 255)\;">The SC Military Museum of the SC National Guard Armory located at 1 National Guard Road (Bluff Road by the Williams Brice Stadium).&nbsp\; &nbsp\;A valid photo identification&nbsp\;must be shown at the gate.&nbsp\; Ample parking\, including handicapped\, is available. Chamber Event Signs will direct the way.&nbsp\;</span></span></span></span>\n<div>&nbsp\;</div>\n\n<div><span style="color:#707c7c\;"><span style="font-size:14px\;"><span style="font-family:verdana\;"><span style="background-color: rgb(255\, 255\, 255)\;">You are cordially invited to come early or stay after the meeting to tour the museum. An agenda will be shared prior to the meeting.&nbsp\; Thank you to the SC National Guard for hosting the meeting.&nbsp\; &nbsp\;&nbsp\;</span></span></span></span></div>\n<br />\n<span style="color:#707c7c\;"><span style="font-size:14px\;"><span style="font-family:verdana\;"><span background-color:="" font-size:="" new="" open="" times="">Meetings are open to all partners.</span></span></span></span>
LOCATION:SC National Guard Armory\, Military Museum 1 National Guard Road Columbia\, SC 29201 The Tuesday\, April 24th meeting of the Military Affairs Group will be held at 2:00 P.M. in the SC Military Museum of the SC National Guard Armory located at 1 National Guard Road (Bluff Road by the Williams Brice Stadium). A valid photo identification must be shown at the gate. Ample parking\, including handicapped\, is available. Chamber Event Signs will highlight the location. http://scmilitarymuseum.com/
UID:e.2226.7941
SEQUENCE:3
DTSTAMP:20260421T152243Z
URL:https://partners.columbiachamber.com/events/details/military-affairs-group-7941
END:VEVENT

END:VCALENDAR
