BEGIN:VCALENDAR
VERSION:2.0
PRODID:-//ChamberMaster//Event Calendar 2.0//EN
METHOD:PUBLISH
X-PUBLISHED-TTL:P3D
REFRESH-INTERVAL:P3D
CALSCALE:GREGORIAN
BEGIN:VEVENT
DTSTART:20171031T180000Z
DTEND:20171031T180000Z
X-MICROSOFT-CDO-ALLDAYEVENT:FALSE
SUMMARY:Military Affairs Group
DESCRIPTION:During this quarterly forum\, Columbia Chamber partners gather to discuss and address military related issues and events occurring throughout the community. The group meets in the Palmetto Room of the Columbia Chamber. Meetings are open to all partners who wish to attend.
X-ALT-DESC;FMTTYPE=text/html:<span background-color:="" font-size:="" new="" open="" style="color: rgb(111\, 124\, 125)\; font-family: Calibri\, " times="">During this quarterly forum\, Columbia Chamber partners gather to discuss and address military related issues and events occurring throughout the community. The group meets in the Palmetto Room of the Columbia Chamber. Meetings are open to all partners who wish to attend.</span>
LOCATION:Columbia Camber Palmetto Room 930 Richland St\, Columbia\, SC 29201
UID:e.2226.6306
SEQUENCE:3
DTSTAMP:20260423T095009Z
URL:https://partners.columbiachamber.com/events/details/military-affairs-group-6306
END:VEVENT

END:VCALENDAR
