BEGIN:VCALENDAR
VERSION:2.0
PRODID:-//ChamberMaster//Event Calendar 2.0//EN
METHOD:PUBLISH
X-PUBLISHED-TTL:P3D
REFRESH-INTERVAL:P3D
CALSCALE:GREGORIAN
BEGIN:VEVENT
DTSTART:20180324T120000Z
DTEND:20180324T150000Z
X-MICROSOFT-CDO-ALLDAYEVENT:FALSE
SUMMARY:Midlands Heart Walk
DESCRIPTION:Designed to promote physical activity and heart-healthy living\, the 20th Anniversary Heart Walk creates an environment that's fun and rewarding for the entire family.
X-ALT-DESC;FMTTYPE=text/html:Designed to promote physical activity and heart-healthy living\, the 20th Anniversary Heart Walk creates an environment that&#39\;s fun and rewarding for the entire family.
LOCATION:The Colonial Life Arena
UID:e.2226.7163
SEQUENCE:3
DTSTAMP:20260423T110854Z
URL:https://partners.columbiachamber.com/events/details/midlands-heart-walk-7163
END:VEVENT

END:VCALENDAR
