BEGIN:VCALENDAR
VERSION:2.0
PRODID:-//ChamberMaster//Event Calendar 2.0//EN
METHOD:PUBLISH
X-PUBLISHED-TTL:P3D
REFRESH-INTERVAL:P3D
CALSCALE:GREGORIAN
BEGIN:VEVENT
DTSTART:20180130T221500Z
DTEND:20180130T234500Z
X-MICROSOFT-CDO-ALLDAYEVENT:FALSE
SUMMARY:LCAA: January Happy Hour
DESCRIPTION:Come network with other Leadership Columbia graduates\, and members of the Alumni Association on January 30th at The Grand on Main.\n\n\n\nGraduated from Leadership Columbia? Not a member of LCAA yet? Sign up today - at a discount!!
X-ALT-DESC;FMTTYPE=text/html:Come network with other Leadership Columbia graduates\, and members of the Alumni Association on January 30th&nbsp\;at The Grand on Main.<br />\n<br />\nGraduated from Leadership Columbia? Not a&nbsp\;member of LCAA yet? Sign up today - at a discount!!
LOCATION:The Grand - 1621 Main Street
UID:e.2226.7946
SEQUENCE:3
DTSTAMP:20260424T154341Z
URL:https://partners.columbiachamber.com/events/details/lcaa-january-happy-hour-7946
END:VEVENT

END:VCALENDAR
