BEGIN:VCALENDAR
VERSION:2.0
PRODID:-//ChamberMaster//Event Calendar 2.0//EN
METHOD:PUBLISH
X-PUBLISHED-TTL:P3D
REFRESH-INTERVAL:P3D
CALSCALE:GREGORIAN
BEGIN:VEVENT
DTSTART:20180425T180000Z
DTEND:20180425T200000Z
X-MICROSOFT-CDO-ALLDAYEVENT:FALSE
SUMMARY:John C. Maxwell Leadership Forum
DESCRIPTION:John C. Maxwell is identified as "the #1 leader in business" by the American Management Association and "the most influential leadership expert in the world" by Business Insider and Inc. magazines. Columbia International University is proud to host this Leadership Forum event\, available to local businesses and community members.
X-ALT-DESC;FMTTYPE=text/html:<span style="font-size:14px\;"><span style="font-family:verdana\;"><span style="color:#707c7c\;">John C. Maxwell is identified as &quot\;the #1 leader in business&quot\; by the American&nbsp\;Management Association and &quot\;the most influential leadership&nbsp\;expert in the world&quot\; by Business Insider and Inc. magazines. Columbia International University is proud to host this Leadership Forum event\, available to local businesses and community members.</span></span></span>
LOCATION:Columbia International University - Shortess Chapel 7435 Monticello Rd. Columbia\, SC 29203
UID:e.2226.8220
SEQUENCE:3
DTSTAMP:20260420T211728Z
URL:https://partners.columbiachamber.com/events/details/john-c-maxwell-leadership-forum-8220
END:VEVENT

END:VCALENDAR
