BEGIN:VCALENDAR
VERSION:2.0
PRODID:-//ChamberMaster//Event Calendar 2.0//EN
METHOD:PUBLISH
X-PUBLISHED-TTL:P3D
REFRESH-INTERVAL:P3D
CALSCALE:GREGORIAN
BEGIN:VEVENT
DTSTART:20171210T203000Z
DTEND:20171210T223000Z
X-MICROSOFT-CDO-ALLDAYEVENT:FALSE
SUMMARY:Holiday Pops
DESCRIPTION:Do you hear what we hear? The S.C. Philharmonic plays your favorite holiday classics and some contemporary\, snowy surprises!
X-ALT-DESC;FMTTYPE=text/html:Do you hear what we hear? The S.C. Philharmonic plays your favorite holiday classics and some contemporary\, snowy surprises!
LOCATION:Harbison Theatre at Midlands Technical College 7300 College Street\, Irmo\, SC 29063
UID:e.2226.6982
SEQUENCE:3
DTSTAMP:20260422T204851Z
URL:https://partners.columbiachamber.com/events/details/holiday-pops-6982
END:VEVENT

END:VCALENDAR
