BEGIN:VCALENDAR
VERSION:2.0
PRODID:-//ChamberMaster//Event Calendar 2.0//EN
METHOD:PUBLISH
X-PUBLISHED-TTL:P3D
REFRESH-INTERVAL:P3D
CALSCALE:GREGORIAN
BEGIN:VEVENT
DTSTART:20170821T150000Z
DTEND:20170821T200000Z
X-MICROSOFT-CDO-ALLDAYEVENT:FALSE
SUMMARY:Historic Eclipse in the Gardens
DESCRIPTION:Be part of history and witness the Total Solar Eclipse of 2017 with Historic Columbia at Historic Eclipse in the Gardens on Monday\, Aug. 21. Experience this once-in-a-lifetime event on the expansive grounds of the Robert Mills House & Gardens\, located in the heart of downtown Columbia\, S.C. At 2:41 p.m.\, guests will see the much-anticipated total solar eclipse for 2 minutes and 36 seconds of darkness\, which is the longest 100% total eclipse for a metro area on the East Coast of the United States.\n\nHistoric Eclipse in the Gardens will feature an expansive outdoor area for eclipse viewing\, live music and children's entertainment from Pears 4 Bears\, hands-on kid's activities\, tours of the historic Robert Mills House and much more. Misting stations will be available for guests to stay cool in the summer heat. Eclipse viewing glasses will be available at no charge for event guests. Food and drinks will also be available for purchase. Guests are encouraged to bring their own blanket and/or chair\, sit back and experience a celestial spectacle of a lifetime.
X-ALT-DESC;FMTTYPE=text/html:<p><span style="font-size:14px\;"><span style="font-family:verdana\;"><span style="color:#707c7c\;">Be part of history and witness the&nbsp\;</span><a href="http://totaleclipsecolumbiasc.com/" style="box-sizing: border-box\; color: rgb(255\, 89\, 10)\; transition: color 0.25s ease\; -webkit-transition: color 0.25s ease\;" target="_blank"><span style="color:#707c7c\;">Total Solar Eclipse of 2017</span></a><span style="color:#707c7c\;">&nbsp\;with Historic Columbia at Historic Eclipse in the Gardens on Monday\, Aug. 21. Experience this once-in-a-lifetime event on the expansive grounds of the&nbsp\;</span><a href="http://www.historiccolumbia.org/robert-mills-house-and-gardens" style="box-sizing: border-box\; color: rgb(255\, 89\, 10)\; transition: color 0.25s ease\; -webkit-transition: color 0.25s ease\;" target="_blank"><span style="color:#707c7c\;">Robert Mills House &amp\; Gardens</span></a><span style="color:#707c7c\;">\, located in the heart of downtown Columbia\, S.C. At 2:41 p.m.\, guests will see the much-anticipated total solar eclipse for 2 minutes and 36 seconds of darkness\, which is the longest 100% total eclipse for a metro area on the East Coast of the United States.</span></span></span></p>\n\n<p><span style="color:#707c7c\;"><span style="font-size:14px\;"><span style="font-family:verdana\;">Historic Eclipse in the Gardens will feature an expansive outdoor area for eclipse viewing\, live music and children&rsquo\;s entertainment from Pears 4 Bears\, hands-on kid&rsquo\;s activities\, tours of the historic Robert Mills House and much more. Misting stations will be available for guests to stay cool in the summer heat. Eclipse viewing glasses will be available at no charge for event guests. Food and drinks will also be available for purchase. Guests are encouraged to bring their own blanket and/or chair\, sit back and experience a celestial spectacle of a lifetime.</span></span></span></p>\n
LOCATION:Robert Mills House & Garden 1616 Blanding St. Columbia\, SC 29201
UID:e.2226.6971
SEQUENCE:3
DTSTAMP:20260426T000345Z
URL:https://partners.columbiachamber.com/events/details/historic-eclipse-in-the-gardens-6971
END:VEVENT

END:VCALENDAR
