BEGIN:VCALENDAR
VERSION:2.0
PRODID:-//ChamberMaster//Event Calendar 2.0//EN
METHOD:PUBLISH
X-PUBLISHED-TTL:P3D
REFRESH-INTERVAL:P3D
CALSCALE:GREGORIAN
BEGIN:VEVENT
DTSTART:20171022T190000Z
DTEND:20171022T210000Z
X-MICROSOFT-CDO-ALLDAYEVENT:FALSE
SUMMARY:Hammond Lower School Interactive Open House
DESCRIPTION:Be our guest at a unique Interactive Open House! Discover the Hammond Experience for yourself with hands-on activities for students and parents\, school tours\, and opportunities to meet our faculty and students.
X-ALT-DESC;FMTTYPE=text/html:Be our guest at a unique Interactive Open House! Discover the Hammond Experience for yourself with hands-on activities for students and parents\, school tours\, and opportunities to meet our faculty and students.
LOCATION:Hammond School 854 Galway Lane Columbia\, South Carolina 29209
UID:e.2226.7202
SEQUENCE:3
DTSTAMP:20260423T161104Z
URL:https://partners.columbiachamber.com/events/details/hammond-lower-school-interactive-open-house-7202
END:VEVENT

END:VCALENDAR
