BEGIN:VCALENDAR
VERSION:2.0
PRODID:-//ChamberMaster//Event Calendar 2.0//EN
METHOD:PUBLISH
X-PUBLISHED-TTL:P3D
REFRESH-INTERVAL:P3D
CALSCALE:GREGORIAN
BEGIN:VEVENT
DTSTART:20180615T210000Z
DTEND:20180615T230000Z
X-MICROSOFT-CDO-ALLDAYEVENT:FALSE
SUMMARY:Grill Marks® Burger Crawl
DESCRIPTION:Join the Grill Marks  Burger Crawl for your last chance to win a Weber  Q -series Grill\, a steak knife set and more! Come enjoy delicious Certified Angus Beef  brand burgers at Grill Marks in the Vista this Friday from 5-7pm or Saturday\, June 16th from 11am-1pm and enter to win!\n\n\n\nWe'll also have a chance to win a $25 gift card for posting pictures of your food on social media!  GrillMarks.com/events for more info.  See you there!
X-ALT-DESC;FMTTYPE=text/html:Join the Grill Marks&reg\; Burger Crawl for your <strong>last chance to win a Weber&reg\; Q&reg\;-series Grill</strong>\, a steak knife set and more! Come&nbsp\;enjoy delicious Certified Angus Beef&reg\; brand burgers at Grill Marks in the Vista this Friday from 5-7pm or Saturday\, June 16th from 11am-1pm and enter to win!<br />\n<br />\nWe&#39\;ll also have a chance to win a $25 gift card for posting pictures of your food on social media!&nbsp\; GrillMarks.com/events for more info.&nbsp\; See you there!&nbsp\;&nbsp\;
LOCATION:Grill Marks Columbia in the Vista 711 Gervais St. Columbia\, SC 29201
UID:e.2226.9297
SEQUENCE:3
DTSTAMP:20260420T005437Z
URL:https://partners.columbiachamber.com/events/details/grill-marks-burger-crawl-9297
END:VEVENT

END:VCALENDAR
