BEGIN:VCALENDAR
VERSION:2.0
PRODID:-//ChamberMaster//Event Calendar 2.0//EN
METHOD:PUBLISH
X-PUBLISHED-TTL:P3D
REFRESH-INTERVAL:P3D
CALSCALE:GREGORIAN
BEGIN:VEVENT
DTSTART:20180419T160000Z
DTEND:20180419T170000Z
X-MICROSOFT-CDO-ALLDAYEVENT:FALSE
SUMMARY:Free Cyber Security Lunch and Learn
DESCRIPTION:Insurance Management Group and EDTS Cyber have teamed up to bring you a free lunch and learn on Cyber Security and how to protect your business from cyber attacks. Call or email us today to reserve your spot for next Thursday\, April 19th!
X-ALT-DESC;FMTTYPE=text/html:<span style="font-family:verdana\;"><span style="color:#707c7c\;">Insurance Management Group and EDTS Cyber have teamed up to bring you a free lunch and learn on Cyber Security and how to protect your business from cyber attacks. Call or email us today to reserve your spot for next Thursday\, April 19th!</span></span>
LOCATION:Insurance Management Group 3700 Forest Drive\, Suite 300 Columbia\, SC 29204
UID:e.2226.9237
SEQUENCE:3
DTSTAMP:20260420T234318Z
URL:https://partners.columbiachamber.com/events/details/free-cyber-security-lunch-and-learn-9237
END:VEVENT

END:VCALENDAR
