BEGIN:VCALENDAR
VERSION:2.0
PRODID:-//ChamberMaster//Event Calendar 2.0//EN
METHOD:PUBLISH
X-PUBLISHED-TTL:P3D
REFRESH-INTERVAL:P3D
CALSCALE:GREGORIAN
BEGIN:VEVENT
DTSTART;VALUE=DATE:20171124
DTEND;VALUE=DATE:20171128
TRANSP:TRANSPARENT
X-MICROSOFT-CDO-ALLDAYEVENT:TRUE
SUMMARY:Nordstrom Rack - CLEAR THE RACK - BLACK FRIDAY WEEKEND
DESCRIPTION:Is your gift giving shifting into high gear? Because on November 24th - November 27th\, join us for our Black Friday Four-Day Weekend event and take an extra 30% off all clearance. Happy Holidays\, indeed!
X-ALT-DESC;FMTTYPE=text/html:&nbsp\;Is your gift giving shifting into high gear?&nbsp\;Because on November 24th - November 27th\, join us for our Black Friday Four-Day Weekend event and take an extra 30% off all clearance. Happy Holidays\, indeed!
LOCATION:278 Harbison Blvd\, Ste A Columbia\, SC 29212
UID:e.2226.7845
SEQUENCE:3
DTSTAMP:20260424T091422Z
URL:https://partners.columbiachamber.com/events/details/clear-the-rack-black-friday-weekend-7845
END:VEVENT

END:VCALENDAR
