BEGIN:VCALENDAR
VERSION:2.0
PRODID:-//ChamberMaster//Event Calendar 2.0//EN
METHOD:PUBLISH
X-PUBLISHED-TTL:P3D
REFRESH-INTERVAL:P3D
CALSCALE:GREGORIAN
BEGIN:VEVENT
DTSTART:20180525T153000Z
DTEND:20180525T170000Z
X-MICROSOFT-CDO-ALLDAYEVENT:FALSE
SUMMARY:Chamber Conversations - John Warren (R)
DESCRIPTION:Interested in knowing more about the South Carolina gubernatorial candidates?\n\n\n\nJoin us at Chamber Conversations - The Gubernatorial Candidate Series to learn more about the people vying for the office of Governor.\n\n\n\nAll meetings will be held at the Palmetto Club. Additional dates will be announced as they are confirmed.\n\n\nInterested in sponsoring the Gubernatorial Candidates Series? Sponsorship includes logo placement on marketing\, social media\, and signage at the event\, plus attendance and lunch for your company.\n\nFor more information or to confirm your sponsorship\, please email Rebekah Babovic or call 803.733.1138.
X-ALT-DESC;FMTTYPE=text/html:<p style="box-sizing: border-box\; margin: 0px auto 24px\; color: rgb(102\, 102\, 102)\; font-family: proxima-nova\, Arial\, Helvetica\, sans-serif\; font-size: 18px\; background-color: rgb(255\, 255\, 255)\;"><span style="color: rgb(51\, 51\, 51)\; font-size: 13px\; font-family: verdana\;"><span style="font-size: 14px\;"><strong><font color="#007297" style="font-family: verdana\, geneva\, sans-serif\; font-size: 18px\;">Interested in knowing more about the South Carolina gubernatorial&nbsp\;</font><font color="#007297" style="font-family: verdana\, geneva\, sans-serif\; font-size: 18px\;">candidates?</font></strong><br />\n<br />\n<span style="color: rgb(112\, 124\, 124)\;">Join us at&nbsp\;<em style="font-size: 16px\;">Chamber Conversations - The Gubernatorial Candidate Series</em>&nbsp\;to learn more about the people vying for the office of Governor.</span><br />\n<br />\n<span style="color: rgb(112\, 124\, 124)\;">All meetings will be held at the Palmetto Club. Additional dates will be announced as they are confirmed.</span></span></span></p>\n\n<div style="color: rgb(51\, 51\, 51)\; font-family: sans-serif\, Arial\, Verdana\, &quot\;Trebuchet MS&quot\;\; font-size: 13px\;">\n<p style="box-sizing: border-box\; margin: 0px auto 24px\; color: rgb(102\, 102\, 102)\; font-family: proxima-nova\, Arial\, Helvetica\, sans-serif\; font-size: 18px\; background-color: rgb(255\, 255\, 255)\;"><span style="font-size: 14px\;"><span style="font-family: verdana\;"><em style="box-sizing: border-box\; margin-top: 0px\;"><span style="box-sizing: border-box\; font-weight: bolder\; margin-top: 0px\;"><span style="box-sizing: border-box\; margin-top: 0px\; color: rgb(0\, 114\, 151)\;">Interested in sponsoring the Gubernatorial C</span><span style="box-sizing: border-box\; color: rgb(0\, 114\, 151)\;">andidates Series? Sponsorship includes logo placement on marketing\, social media\, and signage at the event\, plus attendance and lunch for your company.</span></span></em></span></span></p>\n\n<p style="box-sizing: border-box\; margin: 0px auto 24px\; color: rgb(102\, 102\, 102)\; font-family: proxima-nova\, Arial\, Helvetica\, sans-serif\; font-size: 18px\; background-color: rgb(255\, 255\, 255)\;"><span style="font-size: 14px\;"><span style="font-family: verdana\;">For more information or to confirm your sponsorship\, please email&nbsp\;<a href="mailto:rbabovic@columbiachamber.com" style="color: rgb(18\, 124\, 155)\; box-sizing: border-box\; background-color: transparent\; transition: color 0.2s ease\; margin-top: 0px\;">Rebekah&nbsp\;Babovic</a>&nbsp\;or call 803.733.1138.</span></span></p>\n</div>\n
LOCATION:Palmetto Club 1231 Sumter Street Columbia\, SC 29201
UID:e.2226.8221
SEQUENCE:3
DTSTAMP:20260421T100133Z
URL:https://partners.columbiachamber.com/events/details/chamber-conversations-john-warren-r-8221
END:VEVENT

END:VCALENDAR
