BEGIN:VCALENDAR
VERSION:2.0
PRODID:-//ChamberMaster//Event Calendar 2.0//EN
METHOD:PUBLISH
X-PUBLISHED-TTL:P3D
REFRESH-INTERVAL:P3D
CALSCALE:GREGORIAN
BEGIN:VEVENT
DTSTART:20180123T130000Z
DTEND:20180123T140000Z
X-MICROSOFT-CDO-ALLDAYEVENT:FALSE
SUMMARY:Chamber Conversations
DESCRIPTION:Come learn more about "Richland Renaissance"\, Richland County's comprehensive solution to various space issues facing the County.  Gerald Seals\, Richland County Administrator will be our guest.
X-ALT-DESC;FMTTYPE=text/html:Come learn more about&nbsp\;&quot\;Richland Renaissance&quot\;\, Richland County&#39\;s comprehensive solution to various space issues facing the County.&nbsp\; Gerald Seals\, Richland&nbsp\;County Administrator will be our guest.
LOCATION:Columbia Chamber 930 Richland Street Columbia
UID:e.2226.7970
SEQUENCE:3
DTSTAMP:20260423T073056Z
URL:https://partners.columbiachamber.com/events/details/chamber-conversations-7970
END:VEVENT

END:VCALENDAR
