BEGIN:VCALENDAR
VERSION:2.0
PRODID:-//ChamberMaster//Event Calendar 2.0//EN
METHOD:PUBLISH
X-PUBLISHED-TTL:P3D
REFRESH-INTERVAL:P3D
CALSCALE:GREGORIAN
BEGIN:VEVENT
DTSTART:20180419T210000Z
DTEND:20180420T020000Z
X-MICROSOFT-CDO-ALLDAYEVENT:FALSE
SUMMARY:Carnival Showcase
DESCRIPTION:Come join us as we celebrate Caribbean culture through Music\, Food\, Dance and Culture Festivals.  We will be showing our Costumes for South Carolina Carnival held Saturday June 9th\, Downtown Columbia (1900 block Main Street).\n\nCaribbean food will be on sale... $10 all you can eat.
X-ALT-DESC;FMTTYPE=text/html:<span style="font-size:14px\;"><span style="font-family:verdana\;"><span style="color:#707c7c\;">Come join us as we celebrate Caribbean culture through Music\, Food\, Dance and Culture Festivals.&nbsp\; We will be showing our Costumes for South Carolina Carnival held Saturday June 9th\,&nbsp\;Downtown Columbia (1900 block Main Street).<br />\nCaribbean food will be on sale... $10 all you can eat.</span></span></span><br />\n&nbsp\;
LOCATION:Tapps Arts Center\, 1644 Main Street
UID:e.2226.9224
SEQUENCE:3
DTSTAMP:20260420T210859Z
URL:https://partners.columbiachamber.com/events/details/carnival-showcase-9224
END:VEVENT

END:VCALENDAR
