BEGIN:VCALENDAR
VERSION:2.0
PRODID:-//ChamberMaster//Event Calendar 2.0//EN
METHOD:PUBLISH
X-PUBLISHED-TTL:P3D
REFRESH-INTERVAL:P3D
CALSCALE:GREGORIAN
BEGIN:VEVENT
DTSTART:20180425T220000Z
DTEND:20180426T010000Z
X-MICROSOFT-CDO-ALLDAYEVENT:FALSE
SUMMARY:Beer\, Boots & BBQ!
DESCRIPTION:Dust off your boots\, round up your friends\, wear your western attire and join us as our guest at Capital City Club's annual Beer\, Boots & BBQ extravaganza! Enjoy a fun filled evening with live music\, dancing\, scrumptious BBQ\, open bar\, beer and bourbon tasting stations\, photo booth and yes\, you can test your bull riding skills on our mechanical bull!
X-ALT-DESC;FMTTYPE=text/html:<span style="font-size:14px\;"><span style="font-family:verdana\;"><span style="color:#707c7c\;">Dust off your boots\, round up your friends\, wear your western attire and join us as our guest&nbsp\;at Capital City Club&#39\;s&nbsp\;annual Beer\, Boots &amp\; BBQ extravaganza! Enjoy a fun filled evening with live music\, dancing\, scrumptious BBQ\, open bar\, beer and bourbon tasting stations\, photo booth and yes\, you can test your bull riding skills on our mechanical bull! </span></span></span>
LOCATION:Capital City Club 1201 Main Street Suite 2500 Columbia\, SC 29201
UID:e.2226.9233
SEQUENCE:3
DTSTAMP:20260420T211931Z
URL:https://partners.columbiachamber.com/events/details/beer-boots-bbq-9233
END:VEVENT

END:VCALENDAR
