BEGIN:VCALENDAR
VERSION:2.0
PRODID:-//ChamberMaster//Event Calendar 2.0//EN
METHOD:PUBLISH
X-PUBLISHED-TTL:P3D
REFRESH-INTERVAL:P3D
CALSCALE:GREGORIAN
BEGIN:VEVENT
DTSTART:20260519T180000Z
DTEND:20260519T200000Z
X-MICROSOFT-CDO-ALLDAYEVENT:FALSE
SUMMARY:2026 - Military Outreach Group - 5/19
DESCRIPTION:Join us in-person at the South Carolina State Fair to hear from the greater Columbia military community\, including Fort Jackson\, SC National Guard\, SC Air National Guard\, USO South Carolina\, and other military-related support groups.\n\n\n\nDuring this quarterly forum\, Columbia Chamber Partners gather to discuss and address military related issues and events occurring throughout the community. Meetings are open to all Partners who wish to attend.\n\n\n\nSPEAKERS:\n\nGeneral Daryl Hood\, General Robin Stilwell\, General Patricia Wallace\, LTC John Grabowski \n\nFort Jackson\, SC National Guard 81st Readiness Division and Army Recruiting
X-ALT-DESC;FMTTYPE=text/html:Join us in-person at the South Carolina State Fair to hear from the greater Columbia military community\, including Fort Jackson\, SC National Guard\, SC Air National Guard\, USO South Carolina\, and other military-related support groups.<br />\n<br />\n<em>During this quarterly forum\, Columbia Chamber Partners gather to discuss and address military related issues and events occurring throughout the community. Meetings are open to all Partners who wish to attend.<br />\n<br />\nSPEAKERS:<br />\nGeneral Daryl Hood\,&nbsp\;General Robin Stilwell\,&nbsp\;General Patricia Wallace\, LTC John Grabowski&nbsp\;<br />\nFort Jackson\, SC National Guard 81st Readiness Division and Army Recruiting&nbsp\;</em><br />\n&nbsp\;
LOCATION:South Carolina State Fair 1200 Rosewood Dr. - Rosewood Building
UID:e.2226.16408
SEQUENCE:3
DTSTAMP:20260421T141639Z
URL:https://partners.columbiachamber.com/events/details/2026-military-outreach-group-5-19-16408
END:VEVENT

END:VCALENDAR
