BEGIN:VCALENDAR
VERSION:2.0
PRODID:-//ChamberMaster//Event Calendar 2.0//EN
METHOD:PUBLISH
X-PUBLISHED-TTL:P3D
REFRESH-INTERVAL:P3D
CALSCALE:GREGORIAN
BEGIN:VEVENT
DTSTART;VALUE=DATE:20260917
DTEND;VALUE=DATE:20260919
TRANSP:TRANSPARENT
X-MICROSOFT-CDO-ALLDAYEVENT:TRUE
SUMMARY:2026 - Midlands Area Chamber Pittsburgh Inner City Trip - 9.17-18 2026
DESCRIPTION:
X-ALT-DESC;FMTTYPE=text/html:
LOCATION:
UID:e.2226.17404
SEQUENCE:3
DTSTAMP:20260423T120220Z
URL:https://partners.columbiachamber.com/events/details/2026-midlands-area-chamber-pittsburgh-inner-city-trip-9-17-18-2026-17404
END:VEVENT

END:VCALENDAR
