BEGIN:VCALENDAR
VERSION:2.0
PRODID:-//ChamberMaster//Event Calendar 2.0//EN
METHOD:PUBLISH
X-PUBLISHED-TTL:P3D
REFRESH-INTERVAL:P3D
CALSCALE:GREGORIAN
BEGIN:VEVENT
DTSTART:20260326T150000Z
DTEND:20260326T210000Z
X-MICROSOFT-CDO-ALLDAYEVENT:FALSE
SUMMARY:2026 - 40th Annual Chamber Classic - 3/26
DESCRIPTION:About the Tournament\nCelebrating 40 Years on the Green!\n\nJoin us for the Columbia Chamber's 40th Annual Golf Tournament.  A premier tradition that brings together business leaders from across the Midlands.\n\nHeld each spring\, this Captain's Choice tournament is more than a day on the course\, it's a chance to connect\, compete\, and celebrate four decades of business camaraderie and community impact. Players will tee it up alongside Columbia's top professionals and decision-makers while enjoying the exceptional hospitality of our generous sponsors.\n\nThis special anniversary event supports the Chamber's ongoing mission to foster a thriving\, business-friendly environment in the Midlands.\nWhy Sponsor? \n\nSponsoring the Annual Chamber Classic presents a great opportunity to increase your brand exposure and network with other businesses in the Midlands. All of our sponsors benefit from pre-event and on-site publicity while engaging with potential customers and expanding your connections.  \n\n\n\nCancelation Policy:\n\n Payments for all Columbia Chamber events are due five (5) business days in advance of event date.  The Columbia Chamber must maintain a cancelation policy for events in order to properly plan for catering\, venue expenses and marketing efforts. Unless stated otherwise\, Chamber reservations must be canceled five (5) business days prior to the event to be eligible for a refund\, less a 50% processing fee. No refunds will be issued after the event. No-shows will be charged in-full. Substitutions are welcome at any time. Potential-Partner Chamber reservations should be canceled five (5) business days prior to the event however\, no refund will be given.  The Columbia Chamber works hard to ensure that every dollar is spent responsibly.
X-ALT-DESC;FMTTYPE=text/html:<span style="font-size:12px\;"><span style="font-family:verdana\;"><strong><span style="color:#007297\;">About the Tournament</span></strong></span></span>\n<h3 data-end="240" data-start="196"><strong data-end="238" data-start="200">Celebrating 40 Years on the Green!</strong></h3>\n\n<p data-end="395" data-start="241">Join us for the <strong data-end="307" data-start="257">Columbia Chamber&#39\;s 40th Annual Golf Tournament.</strong><strong data-end="307" data-start="257">&nbsp\; </strong><strong data-end="307" data-start="257">A</strong>&nbsp\;premier tradition that brings together business leaders from across the Midlands.</p>\n\n<p data-end="747" data-start="397">Held each spring\, this <strong data-end="440" data-start="420">Captain&#39\;s Choice</strong> tournament is more than a day on the course\, it&#39\;s a chance to connect\, compete\, and celebrate four decades of business camaraderie and community impact. Players will tee it up alongside Columbia&#39\;s top professionals and decision-makers while enjoying the exceptional hospitality of our generous sponsors.</p>\n\n<p data-end="911" data-start="749">This special anniversary event supports the Chamber&#39\;s ongoing mission to foster a thriving\, business-friendly environment in the Midlands.</p>\n<span style="font-size:12px\;"><span style="font-family:verdana\;"><font color="#007297"><b>Why Sponsor?&nbsp\;</b></font><br />\nSponsoring the Annual Chamber Classic presents a great opportunity to increase your brand exposure and network with other businesses in the Midlands. All of our sponsors benefit from pre-event and on-site publicity while engaging with potential customers and expanding your connections. &nbsp\;<br />\n<br />\n<span style="font-size:10px\;"><i style="color: rgb(50\, 49\, 48)\; font-family: Calibri\, sans-serif\; font-size: 14.6667px\;"><span style="margin: 0px\; padding: 0px\; border: 1pt none windowtext\; font-style: inherit\; font-variant: inherit\; font-weight: inherit\; font-stretch: inherit\; line-height: inherit\; font-optical-sizing: inherit\; font-kerning: inherit\; font-feature-settings: inherit\; font-variation-settings: inherit\; vertical-align: baseline\; color: black\;"><strong>Cancelation Policy:</strong><br />\n&#8203\;Payments for all Columbia Chamber events are due five (5) business days in advance of event date.&nbsp\; The Columbia Chamber must maintain a cancelation policy for events in order to properly plan for catering\, venue expenses and marketing efforts. Unless stated otherwise\, Chamber reservations must be canceled five (5) business days prior to the event to be eligible for a refund\, less a 50% processing fee. No refunds will be issued after the event. No-shows will be charged in-full. Substitutions are welcome at any time. Potential-Partner Chamber reservations should be canceled five (5) business days prior to the event however\, no refund will be given.&nbsp\; The Columbia Chamber works hard to ensure that every dollar is spent responsibly.</span></i></span></span></span>
LOCATION:Fort Jackson Golf Club 3652 Inchon Road Columbia\, SC 29207
UID:e.2226.16399
SEQUENCE:3
DTSTAMP:20260421T141639Z
URL:https://partners.columbiachamber.com/events/details/2026-40th-annual-chamber-classic-3-26-16399
END:VEVENT

END:VCALENDAR
