BEGIN:VCALENDAR
VERSION:2.0
PRODID:-//ChamberMaster//Event Calendar 2.0//EN
METHOD:PUBLISH
X-PUBLISHED-TTL:P3D
REFRESH-INTERVAL:P3D
CALSCALE:GREGORIAN
BEGIN:VEVENT
DTSTART:20240717T200000Z
DTEND:20240717T203000Z
X-MICROSOFT-CDO-ALLDAYEVENT:FALSE
SUMMARY:2024 - Ribbon Cutting: HOTWORX Columbia (Devine St.) - 7/17
DESCRIPTION:Please join us for a ribbon cutting celebrating HOTWORX Columbia Devine St. location! \n\n\n\nHOTWORX is a 24-hour infrared sauna fitness studio offering members the many benefits of infrared heat absorption while completing a 30-minute Isometric workout or 15-minute High-Intensity Interval Training (HIIT) session. They opened their doors in February of this year and are excited to participate in so many health and fitness journeys.\n\n\n\nThere will be free classes all day\, free tours\, and discounted memberships. Vendor partners will be there with food and other health-related offerings to give away.
X-ALT-DESC;FMTTYPE=text/html:Please join us for a ribbon cutting celebrating HOTWORX Columbia Devine St. location!&nbsp\;<br />\n<br />\n<span class="marktaemvyma4">HOTWORX</span>&nbsp\;is a 24-hour infrared sauna fitness studio offering members the many benefits of infrared heat absorption while completing a 30-minute Isometric workout or 15-minute High-Intensity Interval Training (HIIT) session. They opened their doors in February of this year and are excited to participate in so many health and fitness journeys.<br />\n<br />\nThere will be free classes all day\, free tours\, and discounted memberships. Vendor partners will be there with food and other health-related offerings to give away.
LOCATION:4644 Devine Street Suite G Columbia\, SC 29205
UID:e.2226.15637
SEQUENCE:3
DTSTAMP:20260421T083603Z
URL:https://partners.columbiachamber.com/events/details/2024-ribbon-cutting-hotworx-columbia-devine-st-7-17-15637
END:VEVENT

END:VCALENDAR
