BEGIN:VCALENDAR
VERSION:2.0
PRODID:-//ChamberMaster//Event Calendar 2.0//EN
METHOD:PUBLISH
X-PUBLISHED-TTL:P3D
REFRESH-INTERVAL:P3D
CALSCALE:GREGORIAN
BEGIN:VEVENT
DTSTART:20200602T120000Z
DTEND:20200602T130000Z
X-MICROSOFT-CDO-ALLDAYEVENT:FALSE
SUMMARY:2020 Issues Forum 6/2
DESCRIPTION:Topic: Voting Updates in light of Covid-19\n\nSpeaker: Rep. Beth Bernstein\, SC House District 78\n\n\n\nDo you have questions or concerns about voting in Richland County's June 9 primary? Please join us to hear from Rep. Beth Bernstein as she discusses the upcoming election for the Richland County Primary and run-off. She will also discuss the delegation's involvement with the Election Commission and highlight concerns being addressed to ensure Richland County citizens' voices are heard and accounted for when they place their vote in local\, state\, and national elections.  \n\n\n\n\n\n\n\nThe Issues Forum exists to provide a place where Columbia Chamber Partners can gather to discuss and address local\, regional and federal issues facing the business community. Meetings are currently being held on the first Tuesday of each month at 8:00 AM at Richland County Library\, 1431 Assembly St. Columbia\, SC 29201. Meetings are free and open to all who wish to attend.
X-ALT-DESC;FMTTYPE=text/html:<span style="color:#707c7c\;"><span style="font-size:14px\;"><span style="font-family:verdana\;">Topic: </span></span></span><span style="background:white\;"><span style="color:black\;"><span style="font-family:verdana\,sans-serif\;"><span style="font-size:10.5pt\;">Voting Updates in light of Covid-19</span></span></span></span><br />\n<span style="color:#707c7c\;"><span style="font-size:14px\;"><span style="font-family:verdana\;">Speaker: Rep. Beth Bernstein\, SC House District 78</span></span></span><br />\n<br />\n<span style="background:white\;"><span style="color:black\;"><span style="font-family:verdana\,sans-serif\;"><span style="font-size:10.5pt\;">Do you have questions or concerns about voting in Richland County&rsquo\;s June 9 primary? Please join us to hear from Rep. Beth Bernstein as she discusses the upcoming election for the Richland County Primary and run-off. She will also discuss the delegation&#39\;s involvement with the Election Commission and highlight concerns being addressed to ensure Richland County citizens&#39\; voices are heard and accounted for when they place their vote in local\, state\, and national elections.&nbsp\;&nbsp\;</span></span></span></span><br />\n<br />\n<br />\n<br />\n<span style="color:#707c7c\;"><span style="font-size:14px\;"><span style="font-family:verdana\;">The Issues Forum exists to provide a place where Columbia Chamber Partners can gather to discuss and address local\, regional and federal issues facing the business community. Meetings are currently being held on the first Tuesday of each month at 8:00 AM at Richland County Library\, 1431 Assembly St. Columbia\, SC 29201. Meetings are free and open to all who wish to attend.</span></span></span>
LOCATION:Zoom Call
UID:e.2226.11194
SEQUENCE:3
DTSTAMP:20260423T073859Z
URL:https://partners.columbiachamber.com/events/details/2020-issues-forum-6-2-11194
END:VEVENT

END:VCALENDAR
