BEGIN:VCALENDAR
VERSION:2.0
PRODID:-//ChamberMaster//Event Calendar 2.0//EN
METHOD:PUBLISH
X-PUBLISHED-TTL:P3D
REFRESH-INTERVAL:P3D
CALSCALE:GREGORIAN
BEGIN:VEVENT
DTSTART:20180324T130000Z
DTEND:20180324T190000Z
X-MICROSOFT-CDO-ALLDAYEVENT:FALSE
SUMMARY:2018 Gardening Symposium
DESCRIPTION:Starting in the early 19th century\, South Carolina was a hotbed of horticultural experimentation and mastery. Many of the South's most treasured and iconic plants were introduced into North American gardens through the work and passion of early South Carolinians\, including the Hampton-Preston family. Learn about this exciting legacy and the current efforts underway to revitalize the Hampton-Preston gardens.
X-ALT-DESC;FMTTYPE=text/html:<p><span style="font-size:14px\;"><span style="color:#707c7c\;"><span style="font-family:verdana\;">Starting in the early 19th century\, South Carolina was a hotbed of horticultural experimentation and mastery. Many of the South&rsquo\;s most treasured and iconic plants were introduced into North American gardens through the work and passion of early South Carolinians\, including the Hampton-Preston family. Learn about this exciting legacy and the current efforts underway to revitalize the Hampton-Preston gardens.</span></span></span></p>\n
LOCATION:The Carriage House at Robert Mills 1616 Blanding St. Columbia\, SC 29201
UID:e.2226.8199
SEQUENCE:3
DTSTAMP:20260421T172052Z
URL:https://partners.columbiachamber.com/events/details/2018-gardening-symposium-8199
END:VEVENT

END:VCALENDAR
